BEGIN:VCALENDAR
VERSION:2.0
PRODID:-//Qosmo International School - ECPv6.11.2//NONSGML v1.0//EN
CALSCALE:GREGORIAN
METHOD:PUBLISH
X-ORIGINAL-URL:https://qosmoschools.edu.my
X-WR-CALDESC:Events for Qosmo International School
REFRESH-INTERVAL;VALUE=DURATION:PT1H
X-Robots-Tag:noindex
X-PUBLISHED-TTL:PT1H
BEGIN:VTIMEZONE
TZID:Asia/Shanghai
BEGIN:STANDARD
TZOFFSETFROM:+0800
TZOFFSETTO:+0800
TZNAME:CST
DTSTART:20220101T000000
END:STANDARD
END:VTIMEZONE
BEGIN:VEVENT
DTSTART;VALUE=DATE:20220905
DTEND;VALUE=DATE:20220906
DTSTAMP:20260426T094732
CREATED:20220915T114011Z
LAST-MODIFIED:20220915T114011Z
UID:12667-1662336000-1662422399@qosmoschools.edu.my
SUMMARY:First Day of School - Term 1
DESCRIPTION:
URL:https://qosmoschools.edu.my/event/first-day-of-school-term-1/
LOCATION:Qosmo International School\, Petaling Jaya
CATEGORIES:School Calendar
END:VEVENT
BEGIN:VEVENT
DTSTART;VALUE=DATE:20220831
DTEND;VALUE=DATE:20220901
DTSTAMP:20260426T094732
CREATED:20220915T113803Z
LAST-MODIFIED:20220915T113803Z
UID:12664-1661904000-1661990399@qosmoschools.edu.my
SUMMARY:Merdeka Day
DESCRIPTION:
URL:https://qosmoschools.edu.my/event/merdeka-day/
LOCATION:Qosmo International School\, Petaling Jaya
CATEGORIES:School Calendar
END:VEVENT
BEGIN:VEVENT
DTSTART;VALUE=DATE:20220828
DTEND;VALUE=DATE:20220829
DTSTAMP:20260426T094732
CREATED:20220915T051647Z
LAST-MODIFIED:20220915T051647Z
UID:12659-1661644800-1661731199@qosmoschools.edu.my
SUMMARY:Parents Orientation for 2022/2023 School Year
DESCRIPTION:
URL:https://qosmoschools.edu.my/event/parents-orientation-for-2022-2023-school-year/
LOCATION:Qosmo International School\, Petaling Jaya
CATEGORIES:School Calendar
END:VEVENT
END:VCALENDAR