BEGIN:VCALENDAR
VERSION:2.0
PRODID:-//Qosmo International School - ECPv6.11.2//NONSGML v1.0//EN
CALSCALE:GREGORIAN
METHOD:PUBLISH
X-ORIGINAL-URL:https://qosmoschools.edu.my
X-WR-CALDESC:Events for Qosmo International School
REFRESH-INTERVAL;VALUE=DURATION:PT1H
X-Robots-Tag:noindex
X-PUBLISHED-TTL:PT1H
BEGIN:VTIMEZONE
TZID:Asia/Shanghai
BEGIN:STANDARD
TZOFFSETFROM:+0800
TZOFFSETTO:+0800
TZNAME:CST
DTSTART:20230101T000000
END:STANDARD
END:VTIMEZONE
BEGIN:VEVENT
DTSTART;VALUE=DATE:20231218
DTEND;VALUE=DATE:20231223
DTSTAMP:20260426T015631
CREATED:20230914T085450Z
LAST-MODIFIED:20230914T085450Z
UID:12906-1702857600-1703289599@qosmoschools.edu.my
SUMMARY:Winter Camp Week 2
DESCRIPTION:
URL:https://qosmoschools.edu.my/event/winter-camp-week-2-2/
LOCATION:Qosmo International School\, Petaling Jaya
END:VEVENT
BEGIN:VEVENT
DTSTART;VALUE=DATE:20231212
DTEND;VALUE=DATE:20231216
DTSTAMP:20260426T015631
CREATED:20230914T085413Z
LAST-MODIFIED:20230914T085413Z
UID:12904-1702339200-1702684799@qosmoschools.edu.my
SUMMARY:Winter Camp Week 1
DESCRIPTION:
URL:https://qosmoschools.edu.my/event/winter-camp-week-1-2/
LOCATION:Qosmo International School\, Petaling Jaya
END:VEVENT
BEGIN:VEVENT
DTSTART;VALUE=DATE:20231211
DTEND;VALUE=DATE:20231212
DTSTAMP:20260426T015631
CREATED:20230914T085329Z
LAST-MODIFIED:20230914T085329Z
UID:12902-1702252800-1702339199@qosmoschools.edu.my
SUMMARY:Birthday of Sultan of Selangor
DESCRIPTION:
URL:https://qosmoschools.edu.my/event/birthday-of-sultan-of-selangor/
LOCATION:Qosmo International School\, Petaling Jaya
END:VEVENT
BEGIN:VEVENT
DTSTART;VALUE=DATE:20231204
DTEND;VALUE=DATE:20231209
DTSTAMP:20260426T015631
CREATED:20230914T085254Z
LAST-MODIFIED:20230914T085254Z
UID:12900-1701648000-1702079999@qosmoschools.edu.my
SUMMARY:Term 2 Preparation Week
DESCRIPTION:
URL:https://qosmoschools.edu.my/event/term-2-preparation-week/
LOCATION:Qosmo International School\, Petaling Jaya
END:VEVENT
BEGIN:VEVENT
DTSTART;VALUE=DATE:20231204
DTEND;VALUE=DATE:20231205
DTSTAMP:20260426T015631
CREATED:20230914T085219Z
LAST-MODIFIED:20230914T085219Z
UID:12898-1701648000-1701734399@qosmoschools.edu.my
SUMMARY:Report Card Day / End of Term 1
DESCRIPTION:
URL:https://qosmoschools.edu.my/event/report-card-day-end-of-term-1-2/
LOCATION:Qosmo International School\, Petaling Jaya
END:VEVENT
BEGIN:VEVENT
DTSTART;VALUE=DATE:20231127
DTEND;VALUE=DATE:20231202
DTSTAMP:20260426T015631
CREATED:20230914T085128Z
LAST-MODIFIED:20230914T085128Z
UID:12896-1701043200-1701475199@qosmoschools.edu.my
SUMMARY:Project Week
DESCRIPTION:
URL:https://qosmoschools.edu.my/event/project-week-4/
LOCATION:Qosmo International School\, Petaling Jaya
END:VEVENT
BEGIN:VEVENT
DTSTART;VALUE=DATE:20231120
DTEND;VALUE=DATE:20231125
DTSTAMP:20260426T015631
CREATED:20230914T085040Z
LAST-MODIFIED:20230914T085040Z
UID:12894-1700438400-1700870399@qosmoschools.edu.my
SUMMARY:Exam Week
DESCRIPTION:
URL:https://qosmoschools.edu.my/event/exam-week-4/
LOCATION:Qosmo International School\, Petaling Jaya
END:VEVENT
BEGIN:VEVENT
DTSTART;VALUE=DATE:20231113
DTEND;VALUE=DATE:20231115
DTSTAMP:20260426T015631
CREATED:20230914T084836Z
LAST-MODIFIED:20230914T084836Z
UID:12892-1699833600-1700006399@qosmoschools.edu.my
SUMMARY:Deepavali Days in Lieu
DESCRIPTION:
URL:https://qosmoschools.edu.my/event/deepavali-days-in-lieu/
LOCATION:Qosmo International School\, Petaling Jaya
END:VEVENT
BEGIN:VEVENT
DTSTART;VALUE=DATE:20231112
DTEND;VALUE=DATE:20231113
DTSTAMP:20260426T015631
CREATED:20230914T084717Z
LAST-MODIFIED:20230914T084717Z
UID:12890-1699747200-1699833599@qosmoschools.edu.my
SUMMARY:Deepavali
DESCRIPTION:
URL:https://qosmoschools.edu.my/event/deepavali-2/
LOCATION:Qosmo International School\, Petaling Jaya
END:VEVENT
BEGIN:VEVENT
DTSTART;VALUE=DATE:20231031
DTEND;VALUE=DATE:20231101
DTSTAMP:20260426T015631
CREATED:20230914T084507Z
LAST-MODIFIED:20230914T084507Z
UID:12886-1698710400-1698796799@qosmoschools.edu.my
SUMMARY:Halloween Day Celebration
DESCRIPTION:
URL:https://qosmoschools.edu.my/event/halloween-day-celebration/
LOCATION:Qosmo International School\, Petaling Jaya
END:VEVENT
BEGIN:VEVENT
DTSTART;VALUE=DATE:20231020
DTEND;VALUE=DATE:20231021
DTSTAMP:20260426T015631
CREATED:20230914T084628Z
LAST-MODIFIED:20230914T084628Z
UID:12888-1697760000-1697846399@qosmoschools.edu.my
SUMMARY:Sports Teams Tryouts
DESCRIPTION:
URL:https://qosmoschools.edu.my/event/sports-teams-tryouts/
LOCATION:Qosmo International School\, Petaling Jaya
END:VEVENT
BEGIN:VEVENT
DTSTART;VALUE=DATE:20230928
DTEND;VALUE=DATE:20230929
DTSTAMP:20260426T015631
CREATED:20230914T084408Z
LAST-MODIFIED:20230914T084408Z
UID:12884-1695859200-1695945599@qosmoschools.edu.my
SUMMARY:Birthday of the Prophet Muhammad (Mawlid)
DESCRIPTION:
URL:https://qosmoschools.edu.my/event/birthday-of-the-prophet-muhammad-mawlid/
LOCATION:Qosmo International School\, Petaling Jaya
END:VEVENT
BEGIN:VEVENT
DTSTART;VALUE=DATE:20230915
DTEND;VALUE=DATE:20230916
DTSTAMP:20260426T015631
CREATED:20230914T084322Z
LAST-MODIFIED:20230914T084322Z
UID:12882-1694736000-1694822399@qosmoschools.edu.my
SUMMARY:Malaysia Day - Day in Lieu
DESCRIPTION:
URL:https://qosmoschools.edu.my/event/malaysia-day-day-in-lieu/
LOCATION:Qosmo International School\, Petaling Jaya
END:VEVENT
BEGIN:VEVENT
DTSTART;VALUE=DATE:20230904
DTEND;VALUE=DATE:20230905
DTSTAMP:20260426T015631
CREATED:20220915T123833Z
LAST-MODIFIED:20220915T123833Z
UID:12766-1693785600-1693871999@qosmoschools.edu.my
SUMMARY:Start of Term 1 - 2023/2024 School Year
DESCRIPTION:
URL:https://qosmoschools.edu.my/event/start-of-term-1-2023-2024-school-year/
LOCATION:Qosmo International School\, Petaling Jaya
CATEGORIES:School Calendar
END:VEVENT
BEGIN:VEVENT
DTSTART;VALUE=DATE:20230902
DTEND;VALUE=DATE:20230903
DTSTAMP:20260426T015631
CREATED:20230914T084226Z
LAST-MODIFIED:20230914T084226Z
UID:12880-1693612800-1693699199@qosmoschools.edu.my
SUMMARY:Parents Orientation for 2023/2024 School Year
DESCRIPTION:
URL:https://qosmoschools.edu.my/event/parents-orientation-for-2023-2024-school-year-2/
LOCATION:Qosmo International School\, Petaling Jaya
END:VEVENT
BEGIN:VEVENT
DTSTART;VALUE=DATE:20230831
DTEND;VALUE=DATE:20230901
DTSTAMP:20260426T015631
CREATED:20220915T123754Z
LAST-MODIFIED:20220915T123754Z
UID:12763-1693440000-1693526399@qosmoschools.edu.my
SUMMARY:Merdeka Day
DESCRIPTION:
URL:https://qosmoschools.edu.my/event/merdeka-day-2/
LOCATION:Qosmo International School\, Petaling Jaya
CATEGORIES:School Calendar
END:VEVENT
BEGIN:VEVENT
DTSTART;VALUE=DATE:20230828
DTEND;VALUE=DATE:20230902
DTSTAMP:20260426T015631
CREATED:20220915T123701Z
LAST-MODIFIED:20220915T123701Z
UID:12761-1693180800-1693612799@qosmoschools.edu.my
SUMMARY:Term 1 Preparation Week for 2023/2024 School Year
DESCRIPTION:
URL:https://qosmoschools.edu.my/event/term-1-preparation-week-for-2023-2024-school-year/
LOCATION:Qosmo International School\, Petaling Jaya
CATEGORIES:School Calendar
END:VEVENT
BEGIN:VEVENT
DTSTART;VALUE=DATE:20230827
DTEND;VALUE=DATE:20230828
DTSTAMP:20260426T015631
CREATED:20220915T123533Z
LAST-MODIFIED:20220915T123533Z
UID:12759-1693094400-1693180799@qosmoschools.edu.my
SUMMARY:Parents Orientation for 2023/2024 School Year
DESCRIPTION:
URL:https://qosmoschools.edu.my/event/parents-orientation-for-2023-2024-school-year/
LOCATION:Qosmo International School\, Petaling Jaya
CATEGORIES:School Calendar
END:VEVENT
BEGIN:VEVENT
DTSTART;VALUE=DATE:20230807
DTEND;VALUE=DATE:20230826
DTSTAMP:20260426T015631
CREATED:20220915T123420Z
LAST-MODIFIED:20220915T123420Z
UID:12757-1691366400-1693007999@qosmoschools.edu.my
SUMMARY:Second Summer Camp & Summer Day Care
DESCRIPTION:
URL:https://qosmoschools.edu.my/event/second-summer-camp-summer-day-care/
LOCATION:Qosmo International School\, Petaling Jaya
CATEGORIES:School Calendar
END:VEVENT
BEGIN:VEVENT
DTSTART;VALUE=DATE:20230719
DTEND;VALUE=DATE:20230720
DTSTAMP:20260426T015631
CREATED:20220915T123338Z
LAST-MODIFIED:20220915T123338Z
UID:12755-1689724800-1689811199@qosmoschools.edu.my
SUMMARY:Awal Muharram
DESCRIPTION:
URL:https://qosmoschools.edu.my/event/awal-muharram/
LOCATION:Qosmo International School\, Petaling Jaya
CATEGORIES:School Calendar
END:VEVENT
BEGIN:VEVENT
DTSTART;VALUE=DATE:20230717
DTEND;VALUE=DATE:20230805
DTSTAMP:20260426T015631
CREATED:20220915T123245Z
LAST-MODIFIED:20220915T123245Z
UID:12753-1689552000-1691193599@qosmoschools.edu.my
SUMMARY:First Summer Camp & Summer Day Care
DESCRIPTION:
URL:https://qosmoschools.edu.my/event/first-summer-camp-summer-day-care/
LOCATION:Qosmo International School\, Petaling Jaya
CATEGORIES:School Calendar
END:VEVENT
BEGIN:VEVENT
DTSTART;VALUE=DATE:20230715
DTEND;VALUE=DATE:20230803
DTSTAMP:20260426T015631
CREATED:20230914T094150Z
LAST-MODIFIED:20230914T094150Z
UID:12969-1689379200-1691020799@qosmoschools.edu.my
SUMMARY:First Summer Camp & Summer Day Care
DESCRIPTION:
URL:https://qosmoschools.edu.my/event/first-summer-camp-summer-day-care-2/
LOCATION:Qosmo International School\, Petaling Jaya
END:VEVENT
BEGIN:VEVENT
DTSTART;VALUE=DATE:20230714
DTEND;VALUE=DATE:20230715
DTSTAMP:20260426T015631
CREATED:20220915T123128Z
LAST-MODIFIED:20220915T123128Z
UID:12751-1689292800-1689379199@qosmoschools.edu.my
SUMMARY:Report Card Day / End of Term 3
DESCRIPTION:
URL:https://qosmoschools.edu.my/event/report-card-day-end-of-term-3/
LOCATION:Qosmo International School\, Petaling Jaya
CATEGORIES:School Calendar
END:VEVENT
BEGIN:VEVENT
DTSTART;VALUE=DATE:20230705
DTEND;VALUE=DATE:20230712
DTSTAMP:20260426T015631
CREATED:20220915T123043Z
LAST-MODIFIED:20220915T123043Z
UID:12749-1688515200-1689119999@qosmoschools.edu.my
SUMMARY:Project Week
DESCRIPTION:
URL:https://qosmoschools.edu.my/event/project-week-3/
LOCATION:Qosmo International School\, Petaling Jaya
CATEGORIES:School Calendar
END:VEVENT
BEGIN:VEVENT
DTSTART;VALUE=DATE:20230629
DTEND;VALUE=DATE:20230701
DTSTAMP:20260426T015631
CREATED:20220915T122747Z
LAST-MODIFIED:20220915T122943Z
UID:12746-1687996800-1688169599@qosmoschools.edu.my
SUMMARY:Hari Raya Haji
DESCRIPTION:
URL:https://qosmoschools.edu.my/event/hari-raya-haji/
LOCATION:Qosmo International School\, Petaling Jaya
CATEGORIES:School Calendar
END:VEVENT
BEGIN:VEVENT
DTSTART;VALUE=DATE:20230526
DTEND;VALUE=DATE:20230605
DTSTAMP:20260426T015631
CREATED:20220915T122603Z
LAST-MODIFIED:20220915T122603Z
UID:12744-1685059200-1685923199@qosmoschools.edu.my
SUMMARY:Exam Week
DESCRIPTION:
URL:https://qosmoschools.edu.my/event/exam-week-3/
LOCATION:Qosmo International School\, Petaling Jaya
CATEGORIES:School Calendar
END:VEVENT
BEGIN:VEVENT
DTSTART;VALUE=DATE:20230505
DTEND;VALUE=DATE:20230506
DTSTAMP:20260426T015631
CREATED:20220915T122505Z
LAST-MODIFIED:20220915T122505Z
UID:12741-1683244800-1683331199@qosmoschools.edu.my
SUMMARY:The Yang di-Pertuan Agong's Birthday
DESCRIPTION:
URL:https://qosmoschools.edu.my/event/the-yang-di-pertuan-agongs-birthday/
LOCATION:Qosmo International School\, Petaling Jaya
CATEGORIES:School Calendar
END:VEVENT
BEGIN:VEVENT
DTSTART;VALUE=DATE:20230504
DTEND;VALUE=DATE:20230505
DTSTAMP:20260426T015631
CREATED:20220915T122418Z
LAST-MODIFIED:20220915T122418Z
UID:12739-1683158400-1683244799@qosmoschools.edu.my
SUMMARY:Wesak Day
DESCRIPTION:
URL:https://qosmoschools.edu.my/event/wesak-day/
LOCATION:Qosmo International School\, Petaling Jaya
CATEGORIES:School Calendar
END:VEVENT
BEGIN:VEVENT
DTSTART;VALUE=DATE:20230501
DTEND;VALUE=DATE:20230502
DTSTAMP:20260426T015631
CREATED:20220915T122325Z
LAST-MODIFIED:20220915T122325Z
UID:12737-1682899200-1682985599@qosmoschools.edu.my
SUMMARY:Labor Day
DESCRIPTION:
URL:https://qosmoschools.edu.my/event/labor-day/
LOCATION:Qosmo International School\, Petaling Jaya
CATEGORIES:School Calendar
END:VEVENT
BEGIN:VEVENT
DTSTART;VALUE=DATE:20230424
DTEND;VALUE=DATE:20230426
DTSTAMP:20260426T015631
CREATED:20220915T122153Z
LAST-MODIFIED:20220915T122153Z
UID:12735-1682294400-1682467199@qosmoschools.edu.my
SUMMARY:Days in lieu - Hari Raya Aidilfitri
DESCRIPTION:
URL:https://qosmoschools.edu.my/event/days-in-lieu-hari-raya-aidilfitri/
LOCATION:Qosmo International School\, Petaling Jaya
CATEGORIES:School Calendar
END:VEVENT
END:VCALENDAR