BEGIN:VCALENDAR
VERSION:2.0
PRODID:-//Qosmo International School - ECPv6.11.2//NONSGML v1.0//EN
CALSCALE:GREGORIAN
METHOD:PUBLISH
X-WR-CALNAME:Qosmo International School
X-ORIGINAL-URL:https://qosmoschools.edu.my
X-WR-CALDESC:Events for Qosmo International School
REFRESH-INTERVAL;VALUE=DURATION:PT1H
X-Robots-Tag:noindex
X-PUBLISHED-TTL:PT1H
BEGIN:VTIMEZONE
TZID:Asia/Shanghai
BEGIN:STANDARD
TZOFFSETFROM:+0800
TZOFFSETTO:+0800
TZNAME:CST
DTSTART:20230101T000000
END:STANDARD
END:VTIMEZONE
BEGIN:VEVENT
DTSTART;VALUE=DATE:20240601
DTEND;VALUE=DATE:20240602
DTSTAMP:20260425T223633
CREATED:20230914T093608Z
LAST-MODIFIED:20230914T093608Z
UID:12955-1717200000-1717286399@qosmoschools.edu.my
SUMMARY:Charity Carnival Day
DESCRIPTION:
URL:https://qosmoschools.edu.my/event/charity-carnival-day/
LOCATION:Qosmo International School\, Petaling Jaya
END:VEVENT
BEGIN:VEVENT
DTSTART;VALUE=DATE:20240531
DTEND;VALUE=DATE:20240601
DTSTAMP:20260425T223633
CREATED:20230914T093532Z
LAST-MODIFIED:20230914T093532Z
UID:12952-1717113600-1717199999@qosmoschools.edu.my
SUMMARY:Charity Carnival Prep Day
DESCRIPTION:
URL:https://qosmoschools.edu.my/event/charity-carnival-prep-day/
LOCATION:Qosmo International School\, Petaling Jaya
END:VEVENT
BEGIN:VEVENT
DTSTART;VALUE=DATE:20240523
DTEND;VALUE=DATE:20240524
DTSTAMP:20260425T223633
CREATED:20230914T093458Z
LAST-MODIFIED:20230914T093458Z
UID:12950-1716422400-1716508799@qosmoschools.edu.my
SUMMARY:Wesak Day
DESCRIPTION:
URL:https://qosmoschools.edu.my/event/wesak-day-2/
LOCATION:Qosmo International School\, Petaling Jaya
END:VEVENT
BEGIN:VEVENT
DTSTART;VALUE=DATE:20240501
DTEND;VALUE=DATE:20240502
DTSTAMP:20260425T223633
CREATED:20230914T093356Z
LAST-MODIFIED:20230914T093356Z
UID:12948-1714521600-1714607999@qosmoschools.edu.my
SUMMARY:Labor Day
DESCRIPTION:
URL:https://qosmoschools.edu.my/event/labor-day-2/
LOCATION:Qosmo International School\, Petaling Jaya
END:VEVENT
BEGIN:VEVENT
DTSTART;VALUE=DATE:20240415
DTEND;VALUE=DATE:20240416
DTSTAMP:20260425T223633
CREATED:20230914T092042Z
LAST-MODIFIED:20230914T092042Z
UID:12946-1713139200-1713225599@qosmoschools.edu.my
SUMMARY:Start of Term 3
DESCRIPTION:
URL:https://qosmoschools.edu.my/event/start-of-term-3-2/
LOCATION:Qosmo International School\, Petaling Jaya
END:VEVENT
BEGIN:VEVENT
DTSTART;VALUE=DATE:20240410
DTEND;VALUE=DATE:20240412
DTSTAMP:20260425T223633
CREATED:20230914T090834Z
LAST-MODIFIED:20230914T090834Z
UID:12942-1712707200-1712879999@qosmoschools.edu.my
SUMMARY:Hari Raya Aidilfitri
DESCRIPTION:
URL:https://qosmoschools.edu.my/event/hari-raya-aidilfitri-2/
LOCATION:Qosmo International School\, Petaling Jaya
END:VEVENT
BEGIN:VEVENT
DTSTART;VALUE=DATE:20240409
DTEND;VALUE=DATE:20240413
DTSTAMP:20260425T223633
CREATED:20230914T091550Z
LAST-MODIFIED:20230914T091550Z
UID:12944-1712620800-1712966399@qosmoschools.edu.my
SUMMARY:End of Term Break
DESCRIPTION:
URL:https://qosmoschools.edu.my/event/end-of-term-break/
LOCATION:Qosmo International School\, Petaling Jaya
END:VEVENT
BEGIN:VEVENT
DTSTART;VALUE=DATE:20240408
DTEND;VALUE=DATE:20240409
DTSTAMP:20260425T223633
CREATED:20230914T090752Z
LAST-MODIFIED:20230914T090752Z
UID:12940-1712534400-1712620799@qosmoschools.edu.my
SUMMARY:Report Card Day / End of Term 2
DESCRIPTION:
URL:https://qosmoschools.edu.my/event/report-card-day-end-of-term-2-2/
LOCATION:Qosmo International School\, Petaling Jaya
END:VEVENT
BEGIN:VEVENT
DTSTART;VALUE=DATE:20240402
DTEND;VALUE=DATE:20240406
DTSTAMP:20260425T223633
CREATED:20230914T090646Z
LAST-MODIFIED:20230914T090646Z
UID:12938-1712016000-1712361599@qosmoschools.edu.my
SUMMARY:Project Week
DESCRIPTION:
URL:https://qosmoschools.edu.my/event/project-week-5/
LOCATION:Qosmo International School\, Petaling Jaya
END:VEVENT
BEGIN:VEVENT
DTSTART;VALUE=DATE:20240401
DTEND;VALUE=DATE:20240402
DTSTAMP:20260425T223633
CREATED:20230914T090543Z
LAST-MODIFIED:20230914T090543Z
UID:12936-1711929600-1712015999@qosmoschools.edu.my
SUMMARY:Easter Monday
DESCRIPTION:
URL:https://qosmoschools.edu.my/event/easter-monday/
LOCATION:Qosmo International School\, Petaling Jaya
END:VEVENT
BEGIN:VEVENT
DTSTART;TZID=Asia/Shanghai:20240331T080000
DTEND;TZID=Asia/Shanghai:20240331T170000
DTSTAMP:20260425T223633
CREATED:20230914T090443Z
LAST-MODIFIED:20230914T090443Z
UID:12934-1711872000-1711904400@qosmoschools.edu.my
SUMMARY:Easter Sunday
DESCRIPTION:
URL:https://qosmoschools.edu.my/event/easter-sunday-2/
LOCATION:Qosmo International School\, Petaling Jaya
END:VEVENT
BEGIN:VEVENT
DTSTART;VALUE=DATE:20240327
DTEND;VALUE=DATE:20240328
DTSTAMP:20260425T223633
CREATED:20230914T090324Z
LAST-MODIFIED:20230914T090324Z
UID:12930-1711497600-1711583999@qosmoschools.edu.my
SUMMARY:Nuzul Al Quran
DESCRIPTION:
URL:https://qosmoschools.edu.my/event/nuzul-al-quran-2/
LOCATION:Qosmo International School\, Petaling Jaya
END:VEVENT
BEGIN:VEVENT
DTSTART;VALUE=DATE:20240322
DTEND;VALUE=DATE:20240330
DTSTAMP:20260425T223633
CREATED:20230914T090408Z
LAST-MODIFIED:20230914T090408Z
UID:12932-1711065600-1711756799@qosmoschools.edu.my
SUMMARY:Exam Week
DESCRIPTION:
URL:https://qosmoschools.edu.my/event/exam-week-5/
LOCATION:Qosmo International School\, Petaling Jaya
END:VEVENT
BEGIN:VEVENT
DTSTART;VALUE=DATE:20240311
DTEND;VALUE=DATE:20240312
DTSTAMP:20260425T223633
CREATED:20230914T090249Z
LAST-MODIFIED:20230914T090249Z
UID:12928-1710115200-1710201599@qosmoschools.edu.my
SUMMARY:First Day of Ramadan
DESCRIPTION:
URL:https://qosmoschools.edu.my/event/first-day-of-ramadan-2/
LOCATION:Qosmo International School\, Petaling Jaya
END:VEVENT
BEGIN:VEVENT
DTSTART;VALUE=DATE:20240302
DTEND;VALUE=DATE:20240303
DTSTAMP:20260425T223633
CREATED:20230914T090213Z
LAST-MODIFIED:20230914T090213Z
UID:12926-1709337600-1709423999@qosmoschools.edu.my
SUMMARY:Sports Day
DESCRIPTION:
URL:https://qosmoschools.edu.my/event/sports-day/
LOCATION:Qosmo International School\, Petaling Jaya
END:VEVENT
BEGIN:VEVENT
DTSTART;VALUE=DATE:20240301
DTEND;VALUE=DATE:20240302
DTSTAMP:20260425T223633
CREATED:20230914T090108Z
LAST-MODIFIED:20230914T090108Z
UID:12924-1709251200-1709337599@qosmoschools.edu.my
SUMMARY:Sports Day Preparation Day
DESCRIPTION:
URL:https://qosmoschools.edu.my/event/sports-day-preparation-day/
LOCATION:Qosmo International School\, Petaling Jaya
END:VEVENT
BEGIN:VEVENT
DTSTART;VALUE=DATE:20240222
DTEND;VALUE=DATE:20240223
DTSTAMP:20260425T223633
CREATED:20230914T090027Z
LAST-MODIFIED:20230914T090027Z
UID:12922-1708560000-1708646399@qosmoschools.edu.my
SUMMARY:International Day
DESCRIPTION:
URL:https://qosmoschools.edu.my/event/international-day/
LOCATION:Qosmo International School\, Petaling Jaya
END:VEVENT
BEGIN:VEVENT
DTSTART;VALUE=DATE:20240212
DTEND;VALUE=DATE:20240217
DTSTAMP:20260425T223633
CREATED:20230914T085956Z
LAST-MODIFIED:20230914T085956Z
UID:12920-1707696000-1708127999@qosmoschools.edu.my
SUMMARY:Chinese New Year Break
DESCRIPTION:
URL:https://qosmoschools.edu.my/event/chinese-new-year-break/
LOCATION:Qosmo International School\, Petaling Jaya
END:VEVENT
BEGIN:VEVENT
DTSTART;VALUE=DATE:20240210
DTEND;VALUE=DATE:20240212
DTSTAMP:20260425T223633
CREATED:20230914T085921Z
LAST-MODIFIED:20230914T085921Z
UID:12918-1707523200-1707695999@qosmoschools.edu.my
SUMMARY:Chinese New Year
DESCRIPTION:
URL:https://qosmoschools.edu.my/event/chinese-new-year-2/
LOCATION:Qosmo International School\, Petaling Jaya
END:VEVENT
BEGIN:VEVENT
DTSTART;VALUE=DATE:20240125
DTEND;VALUE=DATE:20240126
DTSTAMP:20260425T223633
CREATED:20230914T085840Z
LAST-MODIFIED:20230914T085840Z
UID:12916-1706140800-1706227199@qosmoschools.edu.my
SUMMARY:Thaipusam
DESCRIPTION:
URL:https://qosmoschools.edu.my/event/thaipusam-2/
LOCATION:Qosmo International School\, Petaling Jaya
END:VEVENT
BEGIN:VEVENT
DTSTART;VALUE=DATE:20240103
DTEND;VALUE=DATE:20240104
DTSTAMP:20260425T223633
CREATED:20230914T085800Z
LAST-MODIFIED:20230914T085800Z
UID:12914-1704240000-1704326399@qosmoschools.edu.my
SUMMARY:Start of Term 2
DESCRIPTION:
URL:https://qosmoschools.edu.my/event/start-of-term-2-2/
LOCATION:Qosmo International School\, Petaling Jaya
END:VEVENT
BEGIN:VEVENT
DTSTART;VALUE=DATE:20240101
DTEND;VALUE=DATE:20240103
DTSTAMP:20260425T223633
CREATED:20230914T085728Z
LAST-MODIFIED:20230914T085728Z
UID:12912-1704067200-1704239999@qosmoschools.edu.my
SUMMARY:New Year's Day Break
DESCRIPTION:
URL:https://qosmoschools.edu.my/event/new-years-day-break/
LOCATION:Qosmo International School\, Petaling Jaya
END:VEVENT
BEGIN:VEVENT
DTSTART;VALUE=DATE:20231226
DTEND;VALUE=DATE:20231230
DTSTAMP:20260425T223633
CREATED:20230914T085639Z
LAST-MODIFIED:20230914T085639Z
UID:12910-1703548800-1703894399@qosmoschools.edu.my
SUMMARY:School Office open by appointment only
DESCRIPTION:
URL:https://qosmoschools.edu.my/event/school-office-open-by-appointment-only-2/
LOCATION:Qosmo International School\, Petaling Jaya
END:VEVENT
BEGIN:VEVENT
DTSTART;VALUE=DATE:20231224
DTEND;VALUE=DATE:20231226
DTSTAMP:20260425T223633
CREATED:20230914T085523Z
LAST-MODIFIED:20230914T085523Z
UID:12908-1703376000-1703548799@qosmoschools.edu.my
SUMMARY:Christmas Eve and Christmas Day
DESCRIPTION:
URL:https://qosmoschools.edu.my/event/christmas-eve-and-christmas-day-2/
LOCATION:Qosmo International School\, Petaling Jaya
END:VEVENT
BEGIN:VEVENT
DTSTART;VALUE=DATE:20231218
DTEND;VALUE=DATE:20231223
DTSTAMP:20260425T223633
CREATED:20230914T085450Z
LAST-MODIFIED:20230914T085450Z
UID:12906-1702857600-1703289599@qosmoschools.edu.my
SUMMARY:Winter Camp Week 2
DESCRIPTION:
URL:https://qosmoschools.edu.my/event/winter-camp-week-2-2/
LOCATION:Qosmo International School\, Petaling Jaya
END:VEVENT
BEGIN:VEVENT
DTSTART;VALUE=DATE:20231212
DTEND;VALUE=DATE:20231216
DTSTAMP:20260425T223633
CREATED:20230914T085413Z
LAST-MODIFIED:20230914T085413Z
UID:12904-1702339200-1702684799@qosmoschools.edu.my
SUMMARY:Winter Camp Week 1
DESCRIPTION:
URL:https://qosmoschools.edu.my/event/winter-camp-week-1-2/
LOCATION:Qosmo International School\, Petaling Jaya
END:VEVENT
BEGIN:VEVENT
DTSTART;VALUE=DATE:20231211
DTEND;VALUE=DATE:20231212
DTSTAMP:20260425T223633
CREATED:20230914T085329Z
LAST-MODIFIED:20230914T085329Z
UID:12902-1702252800-1702339199@qosmoschools.edu.my
SUMMARY:Birthday of Sultan of Selangor
DESCRIPTION:
URL:https://qosmoschools.edu.my/event/birthday-of-sultan-of-selangor/
LOCATION:Qosmo International School\, Petaling Jaya
END:VEVENT
BEGIN:VEVENT
DTSTART;VALUE=DATE:20231204
DTEND;VALUE=DATE:20231209
DTSTAMP:20260425T223633
CREATED:20230914T085254Z
LAST-MODIFIED:20230914T085254Z
UID:12900-1701648000-1702079999@qosmoschools.edu.my
SUMMARY:Term 2 Preparation Week
DESCRIPTION:
URL:https://qosmoschools.edu.my/event/term-2-preparation-week/
LOCATION:Qosmo International School\, Petaling Jaya
END:VEVENT
BEGIN:VEVENT
DTSTART;VALUE=DATE:20231204
DTEND;VALUE=DATE:20231205
DTSTAMP:20260425T223633
CREATED:20230914T085219Z
LAST-MODIFIED:20230914T085219Z
UID:12898-1701648000-1701734399@qosmoschools.edu.my
SUMMARY:Report Card Day / End of Term 1
DESCRIPTION:
URL:https://qosmoschools.edu.my/event/report-card-day-end-of-term-1-2/
LOCATION:Qosmo International School\, Petaling Jaya
END:VEVENT
BEGIN:VEVENT
DTSTART;VALUE=DATE:20231127
DTEND;VALUE=DATE:20231202
DTSTAMP:20260425T223633
CREATED:20230914T085128Z
LAST-MODIFIED:20230914T085128Z
UID:12896-1701043200-1701475199@qosmoschools.edu.my
SUMMARY:Project Week
DESCRIPTION:
URL:https://qosmoschools.edu.my/event/project-week-4/
LOCATION:Qosmo International School\, Petaling Jaya
END:VEVENT
END:VCALENDAR