BEGIN:VCALENDAR
VERSION:2.0
PRODID:-//Qosmo International School - ECPv6.11.2//NONSGML v1.0//EN
CALSCALE:GREGORIAN
METHOD:PUBLISH
X-WR-CALNAME:Qosmo International School
X-ORIGINAL-URL:https://qosmoschools.edu.my
X-WR-CALDESC:Events for Qosmo International School
REFRESH-INTERVAL;VALUE=DURATION:PT1H
X-Robots-Tag:noindex
X-PUBLISHED-TTL:PT1H
BEGIN:VTIMEZONE
TZID:Asia/Shanghai
BEGIN:STANDARD
TZOFFSETFROM:+0800
TZOFFSETTO:+0800
TZNAME:CST
DTSTART:20220101T000000
END:STANDARD
END:VTIMEZONE
BEGIN:VEVENT
DTSTART;VALUE=DATE:20230504
DTEND;VALUE=DATE:20230505
DTSTAMP:20260422T095544
CREATED:20220915T122418Z
LAST-MODIFIED:20220915T122418Z
UID:12739-1683158400-1683244799@qosmoschools.edu.my
SUMMARY:Wesak Day
DESCRIPTION:
URL:https://qosmoschools.edu.my/event/wesak-day/
LOCATION:Qosmo International School\, Petaling Jaya
CATEGORIES:School Calendar
END:VEVENT
BEGIN:VEVENT
DTSTART;VALUE=DATE:20230501
DTEND;VALUE=DATE:20230502
DTSTAMP:20260422T095544
CREATED:20220915T122325Z
LAST-MODIFIED:20220915T122325Z
UID:12737-1682899200-1682985599@qosmoschools.edu.my
SUMMARY:Labor Day
DESCRIPTION:
URL:https://qosmoschools.edu.my/event/labor-day/
LOCATION:Qosmo International School\, Petaling Jaya
CATEGORIES:School Calendar
END:VEVENT
BEGIN:VEVENT
DTSTART;VALUE=DATE:20230424
DTEND;VALUE=DATE:20230426
DTSTAMP:20260422T095544
CREATED:20220915T122153Z
LAST-MODIFIED:20220915T122153Z
UID:12735-1682294400-1682467199@qosmoschools.edu.my
SUMMARY:Days in lieu - Hari Raya Aidilfitri
DESCRIPTION:
URL:https://qosmoschools.edu.my/event/days-in-lieu-hari-raya-aidilfitri/
LOCATION:Qosmo International School\, Petaling Jaya
CATEGORIES:School Calendar
END:VEVENT
BEGIN:VEVENT
DTSTART;VALUE=DATE:20230422
DTEND;VALUE=DATE:20230424
DTSTAMP:20260422T095544
CREATED:20220915T122052Z
LAST-MODIFIED:20220915T122052Z
UID:12733-1682121600-1682294399@qosmoschools.edu.my
SUMMARY:Hari Raya Aidilfitri
DESCRIPTION:
URL:https://qosmoschools.edu.my/event/hari-raya-aidilfitri/
LOCATION:Qosmo International School\, Petaling Jaya
CATEGORIES:School Calendar
END:VEVENT
BEGIN:VEVENT
DTSTART;VALUE=DATE:20230411
DTEND;VALUE=DATE:20230412
DTSTAMP:20260422T095544
CREATED:20220915T121947Z
LAST-MODIFIED:20220915T121947Z
UID:12731-1681171200-1681257599@qosmoschools.edu.my
SUMMARY:Start of Term 3
DESCRIPTION:
URL:https://qosmoschools.edu.my/event/start-of-term-3/
LOCATION:Qosmo International School\, Petaling Jaya
CATEGORIES:School Calendar
END:VEVENT
BEGIN:VEVENT
DTSTART;VALUE=DATE:20230410
DTEND;VALUE=DATE:20230411
DTSTAMP:20260422T095544
CREATED:20220915T121839Z
LAST-MODIFIED:20220915T121839Z
UID:12729-1681084800-1681171199@qosmoschools.edu.my
SUMMARY:Day in lieu - Nuzul Al-Quran and Easter Sunday
DESCRIPTION:
URL:https://qosmoschools.edu.my/event/day-in-lieu-nuzul-al-quran-and-easter-sunday/
LOCATION:Qosmo International School\, Petaling Jaya
CATEGORIES:School Calendar
END:VEVENT
BEGIN:VEVENT
DTSTART;VALUE=DATE:20230409
DTEND;VALUE=DATE:20230410
DTSTAMP:20260422T095544
CREATED:20220915T121746Z
LAST-MODIFIED:20220915T121746Z
UID:12727-1680998400-1681084799@qosmoschools.edu.my
SUMMARY:Easter Sunday
DESCRIPTION:
URL:https://qosmoschools.edu.my/event/easter-sunday/
LOCATION:Qosmo International School\, Petaling Jaya
CATEGORIES:School Calendar
END:VEVENT
BEGIN:VEVENT
DTSTART;VALUE=DATE:20230408
DTEND;VALUE=DATE:20230409
DTSTAMP:20260422T095544
CREATED:20220915T121656Z
LAST-MODIFIED:20220915T121656Z
UID:12725-1680912000-1680998399@qosmoschools.edu.my
SUMMARY:Nuzul Al-Quran
DESCRIPTION:
URL:https://qosmoschools.edu.my/event/nuzul-al-quran/
LOCATION:Qosmo International School\, Petaling Jaya
CATEGORIES:School Calendar
END:VEVENT
BEGIN:VEVENT
DTSTART;VALUE=DATE:20230403
DTEND;VALUE=DATE:20230408
DTSTAMP:20260422T095544
CREATED:20220915T121529Z
LAST-MODIFIED:20220915T121529Z
UID:12723-1680480000-1680911999@qosmoschools.edu.my
SUMMARY:Term 3 Preparation Week
DESCRIPTION:
URL:https://qosmoschools.edu.my/event/term-3-preparation-week/
LOCATION:Qosmo International School\, Petaling Jaya
CATEGORIES:School Calendar
END:VEVENT
BEGIN:VEVENT
DTSTART;VALUE=DATE:20230403
DTEND;VALUE=DATE:20230404
DTSTAMP:20260422T095544
CREATED:20220915T121454Z
LAST-MODIFIED:20220915T121454Z
UID:12720-1680480000-1680566399@qosmoschools.edu.my
SUMMARY:Report Card Day / End of Term 2
DESCRIPTION:
URL:https://qosmoschools.edu.my/event/report-card-day-end-of-term-2/
LOCATION:Qosmo International School\, Petaling Jaya
CATEGORIES:School Calendar
END:VEVENT
BEGIN:VEVENT
DTSTART;VALUE=DATE:20230327
DTEND;VALUE=DATE:20230401
DTSTAMP:20260422T095544
CREATED:20220915T121358Z
LAST-MODIFIED:20220915T121358Z
UID:12718-1679875200-1680307199@qosmoschools.edu.my
SUMMARY:Project Week
DESCRIPTION:
URL:https://qosmoschools.edu.my/event/project-week-2/
LOCATION:Qosmo International School\, Petaling Jaya
CATEGORIES:School Calendar
END:VEVENT
BEGIN:VEVENT
DTSTART;VALUE=DATE:20230323
DTEND;VALUE=DATE:20230324
DTSTAMP:20260422T095544
CREATED:20220915T121256Z
LAST-MODIFIED:20220915T121256Z
UID:12716-1679529600-1679615999@qosmoschools.edu.my
SUMMARY:First Day of Ramadan
DESCRIPTION:
URL:https://qosmoschools.edu.my/event/first-day-of-ramadan/
LOCATION:Qosmo International School\, Petaling Jaya
CATEGORIES:School Calendar
END:VEVENT
BEGIN:VEVENT
DTSTART;VALUE=DATE:20230320
DTEND;VALUE=DATE:20230325
DTSTAMP:20260422T095544
CREATED:20220915T121216Z
LAST-MODIFIED:20220915T121216Z
UID:12714-1679270400-1679702399@qosmoschools.edu.my
SUMMARY:Exam Week
DESCRIPTION:
URL:https://qosmoschools.edu.my/event/exam-week-2/
LOCATION:Qosmo International School\, Petaling Jaya
CATEGORIES:School Calendar
END:VEVENT
BEGIN:VEVENT
DTSTART;VALUE=DATE:20230206
DTEND;VALUE=DATE:20230207
DTSTAMP:20260422T095544
CREATED:20220915T120830Z
LAST-MODIFIED:20220915T121139Z
UID:12709-1675641600-1675727999@qosmoschools.edu.my
SUMMARY:Day in lieu - Thaipusam
DESCRIPTION:
URL:https://qosmoschools.edu.my/event/day-in-lieu-thaipusam/
LOCATION:Qosmo International School\, Petaling Jaya
CATEGORIES:School Calendar
END:VEVENT
BEGIN:VEVENT
DTSTART;VALUE=DATE:20230205
DTEND;VALUE=DATE:20230206
DTSTAMP:20260422T095544
CREATED:20220915T120748Z
LAST-MODIFIED:20230117T062808Z
UID:12707-1675555200-1675641599@qosmoschools.edu.my
SUMMARY:Thaipusam
DESCRIPTION:
URL:https://qosmoschools.edu.my/event/thaipusam/
LOCATION:Qosmo International School\, Petaling Jaya
CATEGORIES:School Calendar
END:VEVENT
BEGIN:VEVENT
DTSTART;VALUE=DATE:20230123
DTEND;VALUE=DATE:20230128
DTSTAMP:20260422T095544
CREATED:20220915T120630Z
LAST-MODIFIED:20220915T120630Z
UID:12705-1674432000-1674863999@qosmoschools.edu.my
SUMMARY:Chinese New Year Holidays
DESCRIPTION:
URL:https://qosmoschools.edu.my/event/chinese-new-year-holidays/
LOCATION:Qosmo International School\, Petaling Jaya
CATEGORIES:School Calendar
END:VEVENT
BEGIN:VEVENT
DTSTART;VALUE=DATE:20230122
DTEND;VALUE=DATE:20230124
DTSTAMP:20260422T095544
CREATED:20220915T120544Z
LAST-MODIFIED:20220915T120544Z
UID:12703-1674345600-1674518399@qosmoschools.edu.my
SUMMARY:Chinese New Year
DESCRIPTION:
URL:https://qosmoschools.edu.my/event/chinese-new-year/
LOCATION:Qosmo International School\, Petaling Jaya
CATEGORIES:School Calendar
END:VEVENT
BEGIN:VEVENT
DTSTART;VALUE=DATE:20230103
DTEND;VALUE=DATE:20230104
DTSTAMP:20260422T095544
CREATED:20220915T120351Z
LAST-MODIFIED:20220915T120351Z
UID:12701-1672704000-1672790399@qosmoschools.edu.my
SUMMARY:Start of Term 2
DESCRIPTION:
URL:https://qosmoschools.edu.my/event/start-of-term-2/
LOCATION:Qosmo International School\, Petaling Jaya
CATEGORIES:School Calendar
END:VEVENT
BEGIN:VEVENT
DTSTART;VALUE=DATE:20230102
DTEND;VALUE=DATE:20230103
DTSTAMP:20260422T095544
CREATED:20220915T120238Z
LAST-MODIFIED:20220915T120238Z
UID:12699-1672617600-1672703999@qosmoschools.edu.my
SUMMARY:Day in lieu - New Year's Day
DESCRIPTION:
URL:https://qosmoschools.edu.my/event/day-in-lieu-new-years-day/
LOCATION:Qosmo International School\, Petaling Jaya
CATEGORIES:School Calendar
END:VEVENT
BEGIN:VEVENT
DTSTART;VALUE=DATE:20230101
DTEND;VALUE=DATE:20230102
DTSTAMP:20260422T095544
CREATED:20220915T120153Z
LAST-MODIFIED:20220915T120153Z
UID:12697-1672531200-1672617599@qosmoschools.edu.my
SUMMARY:New Year's Day
DESCRIPTION:
URL:https://qosmoschools.edu.my/event/new-years-day/
LOCATION:Qosmo International School\, Petaling Jaya
CATEGORIES:School Calendar
END:VEVENT
BEGIN:VEVENT
DTSTART;VALUE=DATE:20221226
DTEND;VALUE=DATE:20221231
DTSTAMP:20260422T095544
CREATED:20220915T120032Z
LAST-MODIFIED:20220915T120032Z
UID:12695-1672012800-1672444799@qosmoschools.edu.my
SUMMARY:School Office open by appointment only
DESCRIPTION:
URL:https://qosmoschools.edu.my/event/school-office-open-by-appointment-only/
LOCATION:Qosmo International School\, Petaling Jaya
CATEGORIES:School Calendar
END:VEVENT
BEGIN:VEVENT
DTSTART;VALUE=DATE:20221224
DTEND;VALUE=DATE:20221226
DTSTAMP:20260422T095544
CREATED:20220915T115930Z
LAST-MODIFIED:20220915T115930Z
UID:12692-1671840000-1672012799@qosmoschools.edu.my
SUMMARY:Christmas Eve and Christmas Day
DESCRIPTION:
URL:https://qosmoschools.edu.my/event/christmas-eve-and-christmas-day/
LOCATION:Qosmo International School\, Petaling Jaya
CATEGORIES:School Calendar
END:VEVENT
BEGIN:VEVENT
DTSTART;VALUE=DATE:20221219
DTEND;VALUE=DATE:20221224
DTSTAMP:20260422T095544
CREATED:20220915T115711Z
LAST-MODIFIED:20220915T115711Z
UID:12690-1671408000-1671839999@qosmoschools.edu.my
SUMMARY:Winter Camp - Week 2
DESCRIPTION:
URL:https://qosmoschools.edu.my/event/winter-camp-week-2/
LOCATION:Qosmo International School\, Petaling Jaya
CATEGORIES:School Calendar
END:VEVENT
BEGIN:VEVENT
DTSTART;VALUE=DATE:20221213
DTEND;VALUE=DATE:20221217
DTSTAMP:20260422T095544
CREATED:20220915T115530Z
LAST-MODIFIED:20220915T115530Z
UID:12688-1670889600-1671235199@qosmoschools.edu.my
SUMMARY:Winter Camp - Week 1
DESCRIPTION:
URL:https://qosmoschools.edu.my/event/winter-camp-week-1/
LOCATION:Qosmo International School\, Petaling Jaya
CATEGORIES:School Calendar
END:VEVENT
BEGIN:VEVENT
DTSTART;VALUE=DATE:20221212
DTEND;VALUE=DATE:20221213
DTSTAMP:20260422T095544
CREATED:20220915T115437Z
LAST-MODIFIED:20220915T115437Z
UID:12686-1670803200-1670889599@qosmoschools.edu.my
SUMMARY:Day in lieu - Birthday of the Sultan of Selangor
DESCRIPTION:
URL:https://qosmoschools.edu.my/event/day-in-lieu-birthday-of-the-sultan-of-selangor/
LOCATION:Qosmo International School\, Petaling Jaya
CATEGORIES:School Calendar
END:VEVENT
BEGIN:VEVENT
DTSTART;VALUE=DATE:20221211
DTEND;VALUE=DATE:20221212
DTSTAMP:20260422T095544
CREATED:20220915T115408Z
LAST-MODIFIED:20220915T115408Z
UID:12683-1670716800-1670803199@qosmoschools.edu.my
SUMMARY:Birthday of the Sultan of Selangor
DESCRIPTION:
URL:https://qosmoschools.edu.my/event/birthday-of-the-sultan-of-selangor/
LOCATION:Qosmo International School\, Petaling Jaya
CATEGORIES:School Calendar
END:VEVENT
BEGIN:VEVENT
DTSTART;VALUE=DATE:20221209
DTEND;VALUE=DATE:20221210
DTSTAMP:20260422T095544
CREATED:20220915T115320Z
LAST-MODIFIED:20220915T115320Z
UID:12681-1670544000-1670630399@qosmoschools.edu.my
SUMMARY:Report Card Day / End of Term 1
DESCRIPTION:
URL:https://qosmoschools.edu.my/event/report-card-day-end-of-term-1/
LOCATION:Qosmo International School\, Petaling Jaya
CATEGORIES:School Calendar
END:VEVENT
BEGIN:VEVENT
DTSTART;VALUE=DATE:20221201
DTEND;VALUE=DATE:20221206
DTSTAMP:20260422T095544
CREATED:20220915T115213Z
LAST-MODIFIED:20220915T115213Z
UID:12679-1669852800-1670284799@qosmoschools.edu.my
SUMMARY:Project Week
DESCRIPTION:
URL:https://qosmoschools.edu.my/event/project-week/
LOCATION:Qosmo International School\, Petaling Jaya
CATEGORIES:School Calendar
END:VEVENT
BEGIN:VEVENT
DTSTART;VALUE=DATE:20221124
DTEND;VALUE=DATE:20221201
DTSTAMP:20260422T095544
CREATED:20220915T115102Z
LAST-MODIFIED:20220915T115102Z
UID:12677-1669248000-1669852799@qosmoschools.edu.my
SUMMARY:Exam Week
DESCRIPTION:
URL:https://qosmoschools.edu.my/event/exam-week/
LOCATION:Qosmo International School\, Petaling Jaya
CATEGORIES:School Calendar
END:VEVENT
BEGIN:VEVENT
DTSTART;VALUE=DATE:20221024
DTEND;VALUE=DATE:20221026
DTSTAMP:20260422T095544
CREATED:20220915T114827Z
LAST-MODIFIED:20220915T114827Z
UID:12675-1666569600-1666742399@qosmoschools.edu.my
SUMMARY:Deepavali
DESCRIPTION:
URL:https://qosmoschools.edu.my/event/deepavali/
LOCATION:Qosmo International School\, Petaling Jaya
CATEGORIES:School Calendar
END:VEVENT
END:VCALENDAR